BEGIN:VCALENDAR
VERSION:2.0
PRODID:-//Bay Area Carnivorous Plant Society - ECPv6.15.20//NONSGML v1.0//EN
CALSCALE:GREGORIAN
METHOD:PUBLISH
X-ORIGINAL-URL:https://bacps.org
X-WR-CALDESC:Events for Bay Area Carnivorous Plant Society
REFRESH-INTERVAL;VALUE=DURATION:PT1H
X-Robots-Tag:noindex
X-PUBLISHED-TTL:PT1H
BEGIN:VTIMEZONE
TZID:America/Los_Angeles
BEGIN:DAYLIGHT
TZOFFSETFROM:-0800
TZOFFSETTO:-0700
TZNAME:PDT
DTSTART:20220313T100000
END:DAYLIGHT
BEGIN:STANDARD
TZOFFSETFROM:-0700
TZOFFSETTO:-0800
TZNAME:PST
DTSTART:20221106T090000
END:STANDARD
BEGIN:DAYLIGHT
TZOFFSETFROM:-0800
TZOFFSETTO:-0700
TZNAME:PDT
DTSTART:20230312T100000
END:DAYLIGHT
BEGIN:STANDARD
TZOFFSETFROM:-0700
TZOFFSETTO:-0800
TZNAME:PST
DTSTART:20231105T090000
END:STANDARD
BEGIN:DAYLIGHT
TZOFFSETFROM:-0800
TZOFFSETTO:-0700
TZNAME:PDT
DTSTART:20240310T100000
END:DAYLIGHT
BEGIN:STANDARD
TZOFFSETFROM:-0700
TZOFFSETTO:-0800
TZNAME:PST
DTSTART:20241103T090000
END:STANDARD
END:VTIMEZONE
BEGIN:VEVENT
DTSTART;TZID=America/Los_Angeles:20230429T130000
DTEND;TZID=America/Los_Angeles:20230429T163000
DTSTAMP:20260423T184344
CREATED:20190822T171920Z
LAST-MODIFIED:20240817T175257Z
UID:147-1682773200-1682785800@bacps.org
SUMMARY:BACPS Plant Talks Alex Dietrick
DESCRIPTION:BACPS Plant Talks: Searching for Sundews in Madagascar with Alex Dietrick\nJoin the Bay Area Carnivorous Plant Society for another sundew filled Saturday at the Randall Museum on April 29.\n\n\n\n Alex Dietrick will share photos of sundews and other carnivorous plants from a recent trip to Madagascar. In support of a book on Drosera in Africa\, Alex visited Madagascar to find the two rarely observed endemics\, Drosera humbertii & Drosera arachnoides. He’ll also give us a peek at a third\, undescribed Drosera from the island\, as well as some new Utricularia.\n\n\n\n Alex’s talk begins at 2pm\, and afterwards he’ll have several rare and obscure location specific African Drosera species for sale. Follow our Instagram @bacps_ or join BACPS Group on Facebook for a teaser of his plants for sale!\n\n\n\n You can find Alex on Instagram at @insearchofspecies.\n\n\n\n Want to sell or trade plants at the meeting? \nSpace is limited! Please email us at president@bacps.org to reserve a table
URL:https://bacps.org/event/bacps-plant-talks-searching-for-sundews-in-madagascar-with-alex-dietrick/
LOCATION:Randall Museum\, 199 Museum Way\, San Francisco\, CA\, 94114\, United States
ATTACH;FMTTYPE=image/jpeg:https://bacps.org/wp-content/uploads/2019/08/alex-1980.jpg
END:VEVENT
END:VCALENDAR